BEGIN:VCALENDAR
VERSION:2.0
PRODID:icalendar-ruby
CALSCALE:GREGORIAN
METHOD:PUBLISH
BEGIN:VEVENT
DTSTAMP:20260424T160745Z
UID:27-414934@firstumc-oneonta.org
DTSTART:20260830T143000Z
DTEND:20260830T160000Z
CLASS:PUBLIC
CREATED:20260403T095200
DESCRIPTION:Join FUMC for our annual church picnic at the large pavillion i
 n Wilbur Park. We'll worship together and then spend time as a church comm
 unity with some food and fellowship. All are invited!\n \n
LAST-MODIFIED:20260403T095200
LOCATION:Wilbur Park
SUMMARY:Church Picnic
URL;VALUE=URI:https://www.firstumc-oneonta.org/events/church-picnic/2026-08
 -30
ATTACH;FILENAME=5-%283%29.jpg;FMTTYPE=image/jpeg:https://dq5pwpg1q8ru0.clou
 dfront.net/2026/04/03/13/52/00/6c6d1873-f80e-4c08-b339-2856219a2842/5-%252
 83%2529.jpg
END:VEVENT
END:VCALENDAR
